BEGIN:VCALENDAR
VERSION:2.0
PRODID:-//Museo del Cavallino della Giara - ECPv6.15.17.1//NONSGML v1.0//EN
CALSCALE:GREGORIAN
METHOD:PUBLISH
X-WR-CALNAME:Museo del Cavallino della Giara
X-ORIGINAL-URL:https://museocavallinodellagiara.it/en/
X-WR-CALDESC:Events for Museo del Cavallino della Giara
REFRESH-INTERVAL;VALUE=DURATION:PT1H
X-Robots-Tag:noindex
X-PUBLISHED-TTL:PT1H
BEGIN:VTIMEZONE
TZID:UTC
BEGIN:STANDARD
TZOFFSETFROM:+0000
TZOFFSETTO:+0000
TZNAME:UTC
DTSTART:20170101T000000
END:STANDARD
END:VTIMEZONE
BEGIN:VEVENT
DTSTART;TZID=UTC:20240329T093000
DTEND;TZID=UTC:20240329T180000
DTSTAMP:20260423T162121
CREATED:20240319T183322Z
LAST-MODIFIED:20240402T170637Z
UID:5286-1711704600-1711735200@museocavallinodellagiara.it
SUMMARY:CONVEGNO SUL CAVALLO DELLA GIARA
DESCRIPTION:Valorizzazione e musealizzazione \nProgramma: \n\nOre 9.30 – Saluti istituzionali\nDott. Gianluca Serra – Sindaco del Comune di Genoni\nDott.sa Barbara Laconi – Presidente della Comunità Montana “Sarcidano – Barbagia di Seulo”\nDott.ssa Francesca Lissia\, dott. Luigi Moro – Centro Regionale di Programmazione\nDott.ssa Elisabetta Lorenza Tuveri – Coordinatore del Piano Strategico della Comunità Montana Sarcidano Barbagia di Seulo\nIng. Simone Coni – Responsabile Servizio Tecnico della Comunità Montana Sarcidano Barbagia di Seulo\nDott Raffaele Cherchi – Direttore generale AGRIS\nDott. Paolo Sirena – Direttore Fondazione Altopiano della Giara\nArch. Giovanni Galdieri – “Presentazione del progetto di valorizzazione del Museo Civico del Cavallino della Giara attraverso un nuovo allestimento tecnologico multimediale e l’adeguamento infrastrutturale”\nArtista Antonio Porru – Presentazione delle opere dedicate al cavallo della Giara\nRegista Sergio Scavio – Presentazione del documentario “Un anno sull’altipiano della Giara”\nDott. Franco Passamonti – Passamonti Srl – “Oltre la realtà: i musei del futuro tra gemelli digitali\, mondi virtuali ma sempre emozionanti\, coinvolgenti\, inclusivi e rispettosi del genius loci del territorio”\nOre 11.00 – Pausa caffé\nDott Daniel Zoboli – Università di Cagliari – Milioni di anni al galoppo – il cavallo tra fossili\, storia e Sardegna\nDott.ssa Veterinaria Raffaella Spanedda – Il cavallino della Giara tra storia e natura\nDott. Michele Zucca – Direttore del Civico Museo del Cavallino – Evoluzione del museo e prospettive future\n\nOre 13.30 – Pausa pranzo presso il Civico Museo del Cavallino della Giara \nOre 15.30 – Escursione al Parco della Giara \nModera il dott. Geologo Luigi Sanciu \nVisite guidate gratuite al Civico Museo del Cavallino dal 29 al 30 marzo 2024 \nInfo e contatti: +39 339 16 76 863 | museodelcavallinodellagiara.it \nAlcune immagini dell’evento:
URL:https://museocavallinodellagiara.it/en/event/convegno-sul-cavallo-della-giara/
LOCATION:Centro Sociale Comune di Genoni\, Via Roma\, 72\, Genoni\, 08030\, Italia
CATEGORIES:eventi
ATTACH;FMTTYPE=image/png:https://museocavallinodellagiara.it/wp-content/uploads/2024/03/CONVEGNO-CAVALLO-DELLA-GIARA-1.png
END:VEVENT
BEGIN:VEVENT
DTSTART;TZID=UTC:20231218T080000
DTEND;TZID=UTC:20240526T190000
DTSTAMP:20260423T162121
CREATED:20231216T072942Z
LAST-MODIFIED:20240410T065416Z
UID:5238-1702886400-1716750000@museocavallinodellagiara.it
SUMMARY:Mostra Sventurato Pinocchio
DESCRIPTION:  \n \nDal 18 dicembre 2023 al 26 maggio 2024\, presso il Civico Museo del Cavallino della Giara\, la mostra dei balocchi di Federico “Maestrodascia” Coni. \nLa mostra racconta gli sventurati momenti della vita del piccolo Pinocchio con dovizia di particolari ma sempre in modo ludico e simpatico. \nFederico “Maestrodascia” Coni in questa mostra affronta i momenti che cambiano il corso della vita del noto burattino\, “marionetta”\, più famoso al mondo e lo portano a diventare un bravo bambino. \nL’artista\, artigiano artistico del legno\, che ha all’attivo un altro progetto chiamato “Pinocchio & Friends. Doveva essere un fotoromanzo” presso l’ex Monte Granatico del comune di Baradili\, affronta la storia del disgraziato personaggio tributando la propria ispirazione iconografica all’artista sardo Eugenio Tavolara che realizzò i suoi personaggi in legno e panno negli anni 30 del secolo scorso\, e all’illustratore italiano Benito Jacovitti e ai suoi disegni del 1950. \nLe avventure di Pinocchio. Storia di un burattino è un romanzo fantastico per ragazzi scritto da Carlo Collodi\, pseudonimo del giornalista e scrittore Carlo Lorenzini\, pubblicato per la prima volta a Firenze nel febbraio 1883. \nPer tutta la durata della mostra è possibile prenotare dei laboratori a tema per i bambini. \nNei giorni 28 Gennaio (AL COMPLETO)\, 11 e 25 Febbraio 2024 laboratori didattici con l’artista Federico “Maestrodascia” Coni. Il laboratorio\, rivolto ai bambini dai 7 ai 12 anni\, consiste nella visita della mostra “Sventurato Pinocchio” e nella realizzazione di un manufatto in legno riciclato. I bambini guidati dall’artista realizzano un oggetto creativo in legno da portare a casa.\nL’attività inizia alle 10:30\, ha una durata di circa due ore e mezza. Il numero massimo di partecipanti è di 10 bambini. Durante l’attività\, i genitori possono visitare il museo PARC e il museo del Cavallino della Giara. Il pomeriggio\, bambini e genitori\, possono concludere la giornata con la visita guidata al parco della Giara. \n  \nLa mostra è inserita nel progetto della Fondazione Altopiano della Giara:  “Sulle note di Pinocchio”  con mostre a Tuili\, Setzu\, Gesturi.  \nL’anteprima nazionale\, dal 15/03/2024 al 26/05/2024\, della mostra “Sulle note di Pinocchio” comincerà il suo tour internazionale dalla Sardegna\, partendo dalla Storica Villa Asquer di Tuili che ospita al suo interno il “Museo degli strumenti musicali sardi”. \nIl progetto nasce dalla collaborazione tra la FONDAZIONE COLLODI e la FONDAZIONE ALTOPIANO DELLA GIARA\, ma più in generale consolida i rapporti tra la Regione Toscana e la Sardegna che da sempre hanno avuto scambi culturali e un sentire comune. \nÈ un evento di ampio respiro che prende il nome di PINOCCHIO IN GIARA in quanto\, contestualmente\, nei musei gestiti dalla Fondazione Altopiano della Giara\, dislocati nei centri storici dei 4 Comuni fondatori\, verranno allestite altre 4 mostre legate alla figura di Pinocchio. \nIl Progetto\, rivolto a tutti\, ma in particolar modo alle famiglie ed alle scolaresche\, intende legare idealmente la figura di Pinocchio con i Cavallini della Giara\, l’ultima razza di cavallini selvatici dagli occhi a mandorla\, cari a tutti i bambini\, che vivono in 600 esemplari sull’altopiano della Giara e che richiamano ogni anno oltre 40.000 visitatori\, specie nel periodo primaverile. \nPer prenotare chiamare il numero: 339 16 76 863 oppure scrivi a info@museocavallinodellagiara.it  \nIl laboratorio didattico ha un costo di €6.00 a bambino. Il costo delle visite dei genitori segue la biglietteria del Museo.
URL:https://museocavallinodellagiara.it/en/event/mostra-sventurato-pinocchio/
LOCATION:Civico Museo del Cavallino della Giara\, via Chiesa\, 7\, Genoni\, OR\, 08030
CATEGORIES:eventi
ATTACH;FMTTYPE=image/jpeg:https://museocavallinodellagiara.it/wp-content/uploads/2023/12/locandina-pinocchio-A3-min-scaled.jpg
ORGANIZER;CN="Giunone Soc Coop":MAILTO:coopgiunone@yahoo.it
END:VEVENT
BEGIN:VEVENT
DTSTART;TZID=UTC:20231111T153000
DTEND;TZID=UTC:20231112T170000
DTSTAMP:20260423T162121
CREATED:20231101T064723Z
LAST-MODIFIED:20231101T080225Z
UID:5014-1699716600-1699808400@museocavallinodellagiara.it
SUMMARY:Convegno e chiusura del progetto: Turismo sostenibile a Genoni
DESCRIPTION:Sabato 11 novembre 2023\nPresso Centro Sociale – ore 15.30 \nConvegno Turismo Sostenibile a Genoni:\nSaluti istituzionali: \n\nGianluca Serra – Sindaco del Comune di Genoni\nAntonella Soddu – Comune di Genoni – Responsabile Servizio amministrativo – Referente CEAS\nGianluca Cocco – RAS – Assessorato della difesa dell’ambiente Direttore del Servizio sostenibilità ambientale\, valutazione strategica e sistemi informativi (SVASI)\nAgnese Marcus – RAS – Assessorato della difesa dell’ambiente Settore della sostenibilità e della valutazione ambientale strategica\nMaurizio Malloci/Alessio Saba – Agenzia Forestas – Coordinamento tavolo tecnico regionale rete escursionistica della Sardegna (RES)\nPaolo Sirena – Direttore Fondazione Altipiano della Giara\n\nInterventi: \n\nLuigi Sanciu e Mauro Cogotti – Contesto geologico e naturalistico dell’altipiano della Giara\nAlice Nozza – Associazione culturale Itzokor odv – A spasso per la Giara. Itinerari archeologici per un turismo lento\nSimone Scalas – Il valore del turismo esperienziale per la sostenibilità ambientale\nFederico Coni – Maestrodascia il Baloccaio – Passeggiando nei nostri boschi – dalla raccolta senza taglio\, alla lavorazione e al manufatto finito\nRoberta Carta – Progetto didattico con le scuole\nRoberto Copparoni – Presidente di Amici di Sardegna ODV/ETS – Il progetto Isula per Genoni\nMichele Zucca – Chiusura dei lavori e presentazione progetti:\n– Progetto di rete plastiche ed economia circolare\n– Progetto cura e valorizzazione di beni comuni\, destinato agli enti pubblici titolari di ceas accreditati e non accreditati\nGruppo musicale Su beranu – Intervento musica etnica\n\nDurante il convegno i bambini possono partecipare al laboratorio didattico al museo PARC (su prenotazione) \nDomenica 12 novembre 2023\nIngresso Altipiano della Giara a Genoni – ore 9.30\nTurismo attivo sull’Altipiano della Giara: \nAttività: \n\nEscursione al Parco della Giara – guide Luigi Sanciu e Mauro Cogotti\nTour in bici al Parco della Giara – guide Michele Zucca e Ilaria Pulisci\nVisita alla capanna tradizionale con l’ass. Nurnet\nPranzo al sacco e rientro\n\nDescrizione:\nL’escursione prevede una camminata di circa 10 km con sosta pausa pranzo (al sacco) presso la capanna restaurata grazie al progetto in località Azzaroi.\nL’escursione in bici\, circa 20 km\, si muove sullo stesso percorso con visita al punto panoramico di Zeppara Manna ed a Pauli Majore.\nTutte le attività sono su prenotazione ed è possibile noleggiare le bici. \nContatti e prenotazioni: +39 339 16 76 863 – Scrivici \nIl progetto è finanziato dalla REGIONE SARDEGNA – Assessorato Regionale della Difesa dell’Ambiente – Servizio sostenibilità ambientale valutazione strategica e sistemi informativi (SVASI) \n“Bando per il finanziamento di progetti di educazione allo sviluppo sostenibile destinato agli enti pubblici titolari di CEAS non accreditati – annualità 2022. (D.G.R. 40/11 del 14.10.2021 – Azione 1.2)”\, dal titolo: “Turismo sostenibile a Genoni – TS Genoni” – CUP D91F22004230006
URL:https://museocavallinodellagiara.it/en/event/convegno-e-chiusura-del-progetto-turismo-sostenibile-a-genoni/
LOCATION:Centro Sociale Comune di Genoni\, Via Roma\, 72\, Genoni\, 08030\, Italia
CATEGORIES:eventi
ATTACH;FMTTYPE=image/jpeg:https://museocavallinodellagiara.it/wp-content/uploads/2023/11/locandina-evento-ceas-turismo-sostenibile-a-Genoni-2-scaled.jpg
ORGANIZER;CN="Giunone Soc Coop":MAILTO:coopgiunone@yahoo.it
END:VEVENT
BEGIN:VEVENT
DTSTART;TZID=UTC:20221229T090000
DTEND;TZID=UTC:20221229T183000
DTSTAMP:20260423T162121
CREATED:20221206T170630Z
LAST-MODIFIED:20230521T152849Z
UID:4990-1672304400-1672338600@museocavallinodellagiara.it
SUMMARY:Isula - Viaggio esperienziale nelle meraviglie della Sardegna
DESCRIPTION:Ritroviamo le nostre radici\nNel corso degli eventi esperienziali si parteciperà a dei laboratori legati ai saperi locali. Sono previste visite guidate presso siti archeologici\, naturalistici e monumentali il tutto rivolto alla scoperta e riscoperta delle radici e tradizioni locali. Scopo del progetto è quello di riuscire a far diventare protagonista il visitatore attraverso dei percorsi di conoscenza integrata dei territori proposti\, utilizzando tutti i sensi. \nRadici: Crocevia di culture e ambienti\nOre 9.30 Luogo di incontro Comune di Genoni Via su Paddiu\, 2. Benvenuto e accoglienza dei partecipanti \nOre 10.00 Visita al Monte Granatico e Casa Soddu dove è stata allestita la corte della casa con la presenza di artigiani e fra questi: \nFalegname\, Maniscalco\, Casaro\, Artigiano del sughero\, Artigiano addetto alla tintura con prodotti naturali \nOre 11.00 Aperitivo con prodotti della zona \n11.30 Visita al Civico Museo del Cavallino della Giara\, ex Convento dei Frati Osservanti e Museo PARC al centro storico Casa Soddu e Giardino e visita al Monte granatico \nOre 13.00 Pausa pranzo con menù tipico presso l’agriturismo Cuaddus e Tellas SP 16 bis\, Genoni per prenotazioni 347 651 0485 \nOre 15.00 Laboratorio sulla lavorazione della pasta a cura di Signora Franca Tetti e intrattenimento poetico e di musica etnica curati da Alessandra Sorcinelli e dal Maestro Massimo Carnevale. \nOre 17.00 Tavola Rotonda sul Tema. Genoni: le nostre radici\, il nostro futuro. Presso il Centro Sociale di Genoni. In via Roma 130. Con intervento del Sindaco Dott. Gianluca Serra\, Prof. Roberto Copparoni esperto di valorizzazione territoriale\, Dott. Nicola Dessì Archeologo e Guida turistica \nPartner locale: Cooperativa Giunone per info cell: 3391676863 \nProgramma completo con tutte le giornate: https://isula.sardegna.it/programma-2022/ \nIn collaborazione con il Museo PARC ed il CEAS del Comune di Genoni
URL:https://museocavallinodellagiara.it/en/event/isula-viaggio-esperienziale-nelle-meraviglie-della-sardegna/
LOCATION:Genoni
CATEGORIES:eventi
ATTACH;FMTTYPE=image/jpeg:https://museocavallinodellagiara.it/wp-content/uploads/2022/12/Isula-Viaggio-esperienziale-nelle-meraviglie-della-Sardegna.jpeg
END:VEVENT
BEGIN:VEVENT
DTSTART;VALUE=DATE:20220422
DTEND;VALUE=DATE:20220423
DTSTAMP:20260423T162121
CREATED:20220415T091810Z
LAST-MODIFIED:20241115T175406Z
UID:4939-1650585600-1650671999@museocavallinodellagiara.it
SUMMARY:FESTA DELLA CIVILTA' SARDA 2022
DESCRIPTION:Festa della Civiltà Sarda\n“Nuraghi e Pace”\nGenoni 24 aprile 2022\nProgramma in progress:\nOgni attività è ricompresa nel costo del ticket di € 25 a persona\, ridotto a € 10 per i ragazzi d’età inferiore ai 12 anni.\nore 9\,30: Arrivo ed accoglienza dei partecipanti.\nore 10\,00: Partenza facoltativa\, con mezzi propri\, per il sito archeologico di “Bruncu Suergiu”\, sulla Giara di Genoni ed aree circostanti. Una guida selezionata da Nurnet illustrerà\, nel corso di opportune soste\, le caratteristiche ambientali dei territori visitati. Parcheggio in prossimità di “Bruncu Suergiu” e prosecuzione a piedi sino a tale sito.\nPer chi non intendesse partecipare alla gita\, è previsto l’indirizzamento verso\nil Museo PARC (Paleo Archeo Centro) di Genoni https://www.parcgenoni.it/ \, il Civico Museo del Cavallino della Giara\,\nil colle di Santu Antine e la Cava dei Fossili (loc. Duidduru)\, con visite a cura della Cooperativa di gestione.\nAl Museo PARC saranno organizzati laboratori riservati a bambini e ragazzi.\nOre 14\,00: Pranzo a buffet\, con prodotti a km 0\, all’agriturismo “Cuaddus e Tellas” (malloreddus al ragù di carne; mix di carni arrosto; verdure di stagione; pane; dolcetto tipico; acqua e vino).\nOre 14\,30: Andrea Loddo\, a seguito dei lunghi preparativi per preparare il campo di operatività; portare in temperatura il forno; preparare il modello; fondere il metallo e sversarlo; raffreddare e pulire il bronzetto; esporre con dovizia di particolari storici e tecnici ciò a cui si sta assistendo per la finale riproduzione del bronzetto itifallico suonatore di launeddas.\nOre 14\,00 – 15\,00 Concerto di launeddas nel corso della riproduzione del bronzetto. A cura della Associazione Iscandulas\nDopo il pranzo e lo spettacolo\, presso i locali del Monte granatico\, all’interno della mostra storica\, artistica e artigianale\, sarà proiettato il film in 4K sull’epopea\, negli anni ’50-’60\, in Sardegna\, dall’etnomusicologo\, antropologo danese\, Andreas Fridolin Weis Bentzon.\nSempre nei locali del “Monte Granatico” o dell’ex “Convento dei Cappuccini”\, dove si esibiranno i suonatori di “launeddas”\, mostra permanente di archeo ricostruzioni\, costumi\, produzioni artigianali e artistiche degli artigiani e dialogo fra gli espositori\, i conferenzieri\, i soci Nurnet\, gli ospiti che volessero volontariamente partecipare.\n\nAi partecipanti all’evento è richiesta a puntuale osservanza delle vigenti normative anti Covid.\n\nL’importo relativo dovrà essere accreditato tramite bonifico a favore della “Fondazione Nurnet\, la rete dei nuraghi” ( IBAN – IT08 B030 6904 8561 0000 0005 066 )\, con indicazione di un referente e del numero degli ospiti.\nMaggiori chiarimenti e puntualizzazioni saranno successivamente pubblicati sulla pagina facebook di Nurnet https://www.facebook.com/NURNET2013 e potranno anche essere richiesti per via telefonica al numero 3516062006.
URL:https://museocavallinodellagiara.it/en/event/festa-della-civilta-sarda-2022/
LOCATION:Genoni
CATEGORIES:eventi
ATTACH;FMTTYPE=image/jpeg:https://museocavallinodellagiara.it/wp-content/uploads/2022/04/FESTA-DELLA-CIVILTA-SARDA-2022.jpg
END:VEVENT
BEGIN:VEVENT
DTSTART;TZID=UTC:20211218T150000
DTEND;TZID=UTC:20211219T183000
DTSTAMP:20260423T162121
CREATED:20211212T113031Z
LAST-MODIFIED:20211212T113228Z
UID:4895-1639839600-1639938600@museocavallinodellagiara.it
SUMMARY:Basonis & Assogadoris
DESCRIPTION:Basonis & Assogadoris vuole raccontare le storie e gli aneddoti legati alla gestione del cavallo e della Giara\, passando dalla cattura\, alla marchiatura ed alla doma per i lavori nei campi. Pratiche ormai desuete che racchiudono la storia del luogo ed ora importanti per la conservazione della memoria storica. \nL’evento non vuole assolutamente riproporre tali pratiche ma far conoscere l’impatto che hanno avuto sul territorio di Genoni\, convinti che anche da queste azioni si possa strutturare la tutela e la valorizzazione del Parco della Giara e del cavallo. \nPROGRAMMA \n18 DICEMBRE 2021 \nCIVICO MUSEO DEL CAVALLINO DELLA GIARA\nORE 15:00 Inaugurazione Mostra fotografica sul Rodeo di Genoni con la partecipazione dell’autore Ettore Cavalli \nORE 15:30 Proiezione del documentario Basonis & Assogadoris con testimonianza in presenza dei protagonisti. Presenta Elio Turno Arthemalle. \nA SEGUIRE Degustazione di prodotti enogastronomici del territorio \n19 DICEMBRE 2021 \nVISITA ESPERIENZIALE NEL PARCO DELLA GIARA\nORE 10:00 Ritrovo partecipanti presso il parcheggio della giara di Genoni. \nORE 10:30 Inizio della passeggiata in compagnia dei Basonis e Assogadoris e delle guide del parco. \nA SEGUIRE Prova di tiro col lazo. \nORE 17:00 Monte Granatico. Evento musicale: Tra Sardo e Profano “Oltre il mare e la Sardegna”. \nPRENOTAZIONI: \n+39 339 16 76 863 \nOPPURE ONLINE: https://www.basoniseassogadoris.it/
URL:https://museocavallinodellagiara.it/en/event/basonis-assogadoris/
LOCATION:Civico Museo del Cavallino della Giara\, via Chiesa\, 7\, Genoni\, OR\, 08030
CATEGORIES:eventi
ATTACH;FMTTYPE=image/png:https://museocavallinodellagiara.it/wp-content/uploads/2021/12/genoni-scritta-70x30cm-min.png
ORGANIZER;CN="Giunone Soc Coop":MAILTO:coopgiunone@yahoo.it
END:VEVENT
BEGIN:VEVENT
DTSTART;TZID=UTC:20211105T080000
DTEND;TZID=UTC:20211107T183000
DTSTAMP:20260423T162121
CREATED:20211104T181008Z
LAST-MODIFIED:20211104T181008Z
UID:4876-1636099200-1636309800@museocavallinodellagiara.it
SUMMARY:ARCHEOLOGIKA 2021
DESCRIPTION:Il sistema culturale del Comune di Genoni partecipa ad ARCHEOLOGIKA 2021. \nNei giorni 5- 6-7 novembre giunge al culmine la campagna Archeologika\, tesa a promuovere il turismo culturale sardo con particolare riferimento all’immenso patrimonio archeologico dell’isola. \nNelle 3 giornate\, dalle 9\,30 alle 18\,30\, il quartiere fieristico di Cagliari sarà sede di percorsi\, eventi e attività che ruotano intorno all’archeologia in Sardegna. \nL’accesso alla Fiera è gratuito con verifica Green Pass e misurazione temperatura all’ingresso dei padiglioni. \nMaggiori dettagli: https://www.caor.camcom.it/approfondimento/archeologika-2021
URL:https://museocavallinodellagiara.it/en/event/archeologika-2021/
LOCATION:Fiera campionaria cagliari\, Viale Diaz\, 221\, Cagliari\, 09126
CATEGORIES:eventi
ATTACH;FMTTYPE=image/jpeg:https://museocavallinodellagiara.it/wp-content/uploads/2021/11/archeologika-min.jpg
END:VEVENT
BEGIN:VEVENT
DTSTART;TZID=UTC:20211030T150000
DTEND;TZID=UTC:20211031T180000
DTSTAMP:20260423T162121
CREATED:20211025T161606Z
LAST-MODIFIED:20211025T162534Z
UID:4848-1635606000-1635703200@museocavallinodellagiara.it
SUMMARY:MONUMENTI APERTI EDIZIONE 2021
DESCRIPTION:L’Amministrazione Comunale di Genoni\, con deliberazioni della G.C. n. 13 del 21.02.2020 e n. 76 del 18.10.2021\, ha aderito all’iniziativa “MONUMENTI APERTI 2021” prefiggendosi l’obiettivo di valorizzare il patrimonio culturale del paese e stimolare la partecipazione della popolazione locale e dei giovani alla tutela e promozione turistica delle risorse locali. \nI monumenti e siti visitabili sono l’Ex convento dei Frati Minori Osservanti e Chiesa Madonna S.C.\, la Chiesa parrocchiale Santa Barbara\, il Civico museo del Cavallino della Giara e il P.AR.C (Paleo Archeo Centro)\, oltre al colle di Santu Antine e Il Paleogeosito di Duìdduru. \nL’iniziativa sarà realizzata nell’arco delle giornate di sabato 30 ottobre (pomeriggio) e domenica 31 ottobre per l’intera giornata. \nL’iniziativa prevede\, tra gli eventi collaterali\, la presentazione del Progetto “DOMU DE IS LAUNEDDAS” offerto dalla Associazione Assòtziu Launeddas Sardìnnia\, teso ad arricchire il programma di base. \nVi aspettiamo numerosi\,\nIL SINDACO \nDOTT. GIANLUCA SERRA \nPRENOTAZIONI SUL SITO DI MONUMENTI APERTI
URL:https://museocavallinodellagiara.it/en/event/monumenti-aperti-edizione-2021/
CATEGORIES:eventi
ATTACH;FMTTYPE=image/jpeg:https://museocavallinodellagiara.it/wp-content/uploads/2021/10/locandina-ma-min.jpg
END:VEVENT
BEGIN:VEVENT
DTSTART;VALUE=DATE:20180402
DTEND;VALUE=DATE:20180403
DTSTAMP:20260423T162121
CREATED:20180324T101837Z
LAST-MODIFIED:20211025T162457Z
UID:4396-1522627200-1522713599@museocavallinodellagiara.it
SUMMARY:Pasquetta al museo: Laboratori didattici di Paleontologia e visita ai cavallini della Giara
DESCRIPTION:Come ogni anno il Museo del Cavallino della Giara e il PARC sono aperti il giorno di Pasquetta. La formula di visita che suggeriamo segue il percorso della classica giornata per le famiglie. \nLa proposta per le famiglie include la visita guidata per i genitori al: \n\nMuseo del Cavallino della Giara\nPARC\nGeosito\nEx Convento dei Frati Osservanti Minori\nParco della Giara\n\ne soprattutto: \nil laboratorio didattico PaleoLab per i bambini. Il laboratorio offre la possibilità ai bambini di essere\, per un giorno\, dei piccoli paleontologi. \nIl costo della giornata è uguale a quello che potete pagare ogni giorno dell’anno: \n€ 21 a famiglia e include il laboratorio didattico per un bambino\, oltre un bambino il costo a bimbo per il laboratorio didattico è € 4 \nSintesi e riepilogo costi: \n\nFamiglia con un bambino: € 21\nFamiglia con due bambini: € 25\nFamiglia con tre bambini: € 29\n\nOrari \nI musei sono aperti dalle ore 10 alle 20 \nPer i laboratori abbiamo due turni\, uno la mattina dalle ore 10 circa (AL COMPLETO) e il pomeriggio alle ore 15.30 circa (AL COMPLETO) – (Prenotazione necessaria: il numero massimo è di 20 bambini a turno) \nEtà per i Laboratori didattici \nPer il giorno di Pasquetta\, l’età consigliata va dai 6 ai 12 anni. \nDove mangiare: \nPer il pranzo a Genoni è possibile prenotare presso l’agriturismo Cuaddus e Tellas  (AL COMPLETO) \nOppure è possibile effettuare il pranzo al sacco senza alcun costo aggiuntivo \nAPPUNTAMENTO ALLE ORE 10 AL PARC – VEDI SU MAPS \nContattaci ora per prenotare
URL:https://museocavallinodellagiara.it/en/event/pasquetta-al-museo-laboratori-didattici-di-paleontologia-e-cavallini-della-giara/
LOCATION:Civico Museo del Cavallino della Giara\, via Chiesa\, 7\, Genoni\, OR\, 08030
CATEGORIES:eventi
ATTACH;FMTTYPE=image/jpeg:https://museocavallinodellagiara.it/wp-content/uploads/2018/01/laboratorio-paleontologia.jpg
END:VEVENT
BEGIN:VEVENT
DTSTART;VALUE=DATE:20180224
DTEND;VALUE=DATE:20180225
DTSTAMP:20260423T162121
CREATED:20180219T112253Z
LAST-MODIFIED:20180219T112511Z
UID:4356-1519430400-1519516799@museocavallinodellagiara.it
SUMMARY:89° CORSO PER ANIMATORI
DESCRIPTION:L’Associazione di Promozione Sociale\n“MATITE COLORATE” \n\nORGANIZZA A *** GENONI (OR) ***\nl’ 89° CORSO PER ANIMATORI \nProgramma del Corso:\n– L’ANIMATORE: chi è e cosa fa. Principi teorici sull’animazione e la figura dell’animatore.\n– I GIOCHI: strumento di conoscenza\, comunicazione e divertimento: giochi per ogni età (brevissima didattica del gioco e … prova sul campo!!!)\n– IL BANS e LA BABY DANCE: “riti di coinvolgimento”–“chiasso organizzato”.\n– IL REPERTORIO MUSICALE: la musica giusta per ogni occasione\n– TABELLA DI MARCIA: tempi\, durata e organizzazione di una festa.\n– CONSIGLI PRATICI per sopravvivere!!!\n– BALLOON ART: sculture con i palloncini per stupire e divertire!\n– IL CLOWN DENTRO DI NOI: scopriamolo!!!\n– TRUCCABIMBI: (esercitazioni) – SIAE e feste \nChi fosse interessato invii la propria adesione a ass.matitecolorate@yahoo.it In oggetto nella mail: 88 corso Genoni Nella mail: nome – cognome – telefono oppure tramite WhatsApp o SMS al numero 349/7289842 \nIl corso si terrà a GENONI (OR) – SABATO 24 FEBBRAIO 2018 dalle ore 9\,30 alle ore 18\,00 presso Il “P.AR.C. e Museo del Cavallino della Giara” Località SANTU ANTINE (Google maps) \nPosti max 20 (il corso verrà attivato al raggiungimento di un minimo di 10 iscritti) \nCosto: € 75\,00 (Rilascio di un attestato di partecipazione riconosciuto per CFU liberi) \nPer info: cell. 3497289842 ( DANIELE ) E-mail: ass.matitecolorate@yahoo.it
URL:https://museocavallinodellagiara.it/en/event/89-corso-per-animatori/
LOCATION:Civico Museo del Cavallino della Giara\, via Chiesa\, 7\, Genoni\, OR\, 08030
ATTACH;FMTTYPE=image/jpeg:https://museocavallinodellagiara.it/wp-content/uploads/2018/02/corso-animatori-al-museo-Genoni.jpg
ORGANIZER;CN="L'Associazione di Promozione Sociale %E2%80%9CMATITE COLORATE%E2%80%9D":MAILTO:ass.matitecolorate@yahoo.it
END:VEVENT
BEGIN:VEVENT
DTSTART;VALUE=DATE:20180217
DTEND;VALUE=DATE:20180219
DTSTAMP:20260423T162121
CREATED:20180219T112042Z
LAST-MODIFIED:20180219T113306Z
UID:4355-1518825600-1518998399@museocavallinodellagiara.it
SUMMARY:Carnevale a Genoni 2018
DESCRIPTION:Domenica 18 febbraio \nCarnevale all’insegna della tradizione sarda con: \n\nMamutzones Antigos – Samugheo\nTumbarinos – Gavoi\nIs’Arestes e s’Urtzu Pretistu – Sorgono\nSu Corongiaiu – Laconi\n\nLa sfilata avrà inizio alle ore 16.00 presso la Via Roma\, a seguire: esibizione dei  gruppi presso la Piazza delle Ex – Scuole Elementari. \nSabato 17 febbraio \n\ndalle ore 15.00 presso la piazza delle Ex- Scuole Elementari\npentolaccia e “sa cursa cun is cuaddeddus de canna” per tutti i bambini!\n\nInfo a: prolocogenoni@gmail.com
URL:https://museocavallinodellagiara.it/en/event/carnevale-a-genoni-2018/
LOCATION:Ex Scuole elementari\, Genoni Via Roma 5\, Genoni\, OR\, Italia
CATEGORIES:eventi
ATTACH;FMTTYPE=image/jpeg:https://museocavallinodellagiara.it/wp-content/uploads/2018/02/Definitivo-locandina-proloco.jpg
ORGANIZER;CN="Pro Loco Cesarino Piseddu":MAILTO:prolocogenoni@gmail.com
END:VEVENT
BEGIN:VEVENT
DTSTART;VALUE=DATE:20180131
DTEND;VALUE=DATE:20180220
DTSTAMP:20260423T162121
CREATED:20180120T112649Z
LAST-MODIFIED:20180219T112558Z
UID:4100-1517356800-1519084799@museocavallinodellagiara.it
SUMMARY:New website presentation
DESCRIPTION:The new website is on line
URL:https://museocavallinodellagiara.it/en/event/new-website-presentation/
LOCATION:Civico Museo del Cavallino della Giara\, via Chiesa\, 7\, Genoni\, OR\, 08030
CATEGORIES:eventi
ATTACH;FMTTYPE=image/png:https://museocavallinodellagiara.it/wp-content/uploads/2018/01/museo-cavallino-sito-mobile.png
END:VEVENT
END:VCALENDAR